BEGIN:VCALENDAR
VERSION:2.0
PRODID:-//HVÖ Harmonikaverband Österreichs - ECPv4.9.7//NONSGML v1.0//EN
CALSCALE:GREGORIAN
METHOD:PUBLISH
X-WR-CALNAME:HVÖ Harmonikaverband Österreichs
X-ORIGINAL-URL:https://harmonikaverband.at
X-WR-CALDESC:Veranstaltungen im HVÖ Harmonikaverband Österreichs
BEGIN:VTIMEZONE
TZID:"Europe/Vienna"
BEGIN:DAYLIGHT
TZOFFSETFROM:+0100
TZOFFSETTO:+0200
TZNAME:CEST
DTSTART:20190331T010000
END:DAYLIGHT
BEGIN:STANDARD
TZOFFSETFROM:+0200
TZOFFSETTO:+0100
TZNAME:CET
DTSTART:20191027T010000
END:STANDARD
END:VTIMEZONE
BEGIN:VEVENT
DTSTART;VALUE=DATE:20190723
DTEND;VALUE=DATE:20190728
DTSTAMP:20260422T053206
CREATED:20180920T151546Z
LAST-MODIFIED:20180924T081254Z
UID:1612-1563840000-1564271999@harmonikaverband.at
SUMMARY:ATG-Festival (Accordionists & Teachers Guild)
DESCRIPTION:Das 79. Festival findet in Denver / Colorado statt \n
URL:https://harmonikaverband.at/event/atg-festival-accordionists-teachers-guild/
LOCATION:Denver\, Colorado\, Vereinigte Staaten
CATEGORIES:Wettbewerbe
END:VEVENT
END:VCALENDAR