BEGIN:VCALENDAR
VERSION:2.0
PRODID:-//HVÖ Harmonikaverband Österreichs - ECPv4.9.7//NONSGML v1.0//EN
CALSCALE:GREGORIAN
METHOD:PUBLISH
X-WR-CALNAME:HVÖ Harmonikaverband Österreichs
X-ORIGINAL-URL:https://harmonikaverband.at
X-WR-CALDESC:Veranstaltungen im HVÖ Harmonikaverband Österreichs
BEGIN:VTIMEZONE
TZID:"Europe/Vienna"
BEGIN:DAYLIGHT
TZOFFSETFROM:+0100
TZOFFSETTO:+0200
TZNAME:CEST
DTSTART:20200329T010000
END:DAYLIGHT
BEGIN:STANDARD
TZOFFSETFROM:+0200
TZOFFSETTO:+0100
TZNAME:CET
DTSTART:20201025T010000
END:STANDARD
END:VTIMEZONE
BEGIN:VEVENT
DTSTART;TZID="Europe/Vienna":20201004T150000
DTEND;TZID="Europe/Vienna":20201004T170000
DTSTAMP:20260422T003201
CREATED:20200918T163600Z
LAST-MODIFIED:20200918T164316Z
UID:4308-1601823600-1601830800@harmonikaverband.at
SUMMARY:Albecker Schlosskonzert
DESCRIPTION:Liebe Mundharmonikafreundinnen und Freunde\, \nwir versuchen trotz Covid 19 etwas Kultur zu machen. \nBitte zur Vorsicht die Maske mitnehmen! \nEin Wiedersehen nach langer Durststrecke tut uns allen gut! \nWir freuen uns schon auf euch\, Angelika\, Peter & Franz!\nTelefon: 0664 73397182 oder 0650 3100010 \nAlbeck 04.10.20 Konzert\n
URL:https://harmonikaverband.at/event/albecker-schlosskonzert/
LOCATION:Schloss Albeck\, Schlossweg 5\, Sirnitz\, Kärnten\, 9571
CATEGORIES:Konzerte
END:VEVENT
END:VCALENDAR