BEGIN:VCALENDAR
VERSION:2.0
PRODID:-//HVÖ Harmonikaverband Österreichs - ECPv4.9.7//NONSGML v1.0//EN
CALSCALE:GREGORIAN
METHOD:PUBLISH
X-WR-CALNAME:HVÖ Harmonikaverband Österreichs
X-ORIGINAL-URL:https://harmonikaverband.at
X-WR-CALDESC:Veranstaltungen im HVÖ Harmonikaverband Österreichs
BEGIN:VTIMEZONE
TZID:"Europe/Vienna"
BEGIN:DAYLIGHT
TZOFFSETFROM:+0100
TZOFFSETTO:+0200
TZNAME:CEST
DTSTART:20190331T010000
END:DAYLIGHT
BEGIN:STANDARD
TZOFFSETFROM:+0200
TZOFFSETTO:+0100
TZNAME:CET
DTSTART:20191027T010000
END:STANDARD
END:VTIMEZONE
BEGIN:VEVENT
DTSTART;TZID="Europe/Vienna":20190406T150000
DTEND;TZID="Europe/Vienna":20190406T154500
DTSTAMP:20260422T071112
CREATED:20190323T072430Z
LAST-MODIFIED:20190323T072430Z
UID:2499-1554562800-1554565500@harmonikaverband.at
SUMMARY:Akkordeonkonzertnachmittag
DESCRIPTION:Heinrich Biegenzahn (Akkordeon)\nProgramm:\nWladislaw Solotarjow: Sonate Nr.3\nSaal der Musikschule der Stadt Tulln\, Hauptplatz 16\,\n3430 Tulln\, Tel: 02272 690710\, Eintritt frei\nInfo. : hbiegen@hotmail.com (Heinrich Biegenzahn) \n
URL:https://harmonikaverband.at/event/akkordeonkonzertnachmittag/
LOCATION:Musikschule Tulln\, Hauptplatz 16\, Tulln\, Niederösterreich\, 3430\, Österreich
CATEGORIES:Konzerte
ATTACH;FMTTYPE=image/jpeg:https://harmonikaverband.at/wp-content/uploads/2019/03/Konzert6.4.2019.jpg
ORGANIZER;CN="Mag.%20Heinrich%20Biegenzahn":MAILTO:hbiegen@hotmail.com
END:VEVENT
END:VCALENDAR