BEGIN:VCALENDAR
VERSION:2.0
PRODID:-//HVÖ Harmonikaverband Österreichs - ECPv4.9.7//NONSGML v1.0//EN
CALSCALE:GREGORIAN
METHOD:PUBLISH
X-WR-CALNAME:HVÖ Harmonikaverband Österreichs
X-ORIGINAL-URL:https://harmonikaverband.at
X-WR-CALDESC:Veranstaltungen im HVÖ Harmonikaverband Österreichs
BEGIN:VTIMEZONE
TZID:"Europe/Vienna"
BEGIN:DAYLIGHT
TZOFFSETFROM:+0100
TZOFFSETTO:+0200
TZNAME:CEST
DTSTART:20230326T010000
END:DAYLIGHT
BEGIN:STANDARD
TZOFFSETFROM:+0200
TZOFFSETTO:+0100
TZNAME:CET
DTSTART:20231029T010000
END:STANDARD
END:VTIMEZONE
BEGIN:VEVENT
DTSTART;TZID="Europe/Vienna":20231216T160000
DTEND;TZID="Europe/Vienna":20231217T170000
DTSTAMP:20260421T145252
CREATED:20231122T100938Z
LAST-MODIFIED:20231201T110023Z
UID:7655-1702742400-1702832400@harmonikaverband.at
SUMMARY:Adventkonzerte der Swinging Accordians am 16. und 17. Dezember
DESCRIPTION: \n
URL:https://harmonikaverband.at/event/adventkonzert-der-swinging-accordians/
LOCATION:Michelbachhalle\, Markt 30\, Michelbach\, 3074
CATEGORIES:Konzerte
END:VEVENT
END:VCALENDAR