BEGIN:VCALENDAR
VERSION:2.0
PRODID:-//HVÖ Harmonikaverband Österreichs - ECPv4.9.7//NONSGML v1.0//EN
CALSCALE:GREGORIAN
METHOD:PUBLISH
X-WR-CALNAME:HVÖ Harmonikaverband Österreichs
X-ORIGINAL-URL:https://harmonikaverband.at
X-WR-CALDESC:Veranstaltungen im HVÖ Harmonikaverband Österreichs
BEGIN:VTIMEZONE
TZID:"Europe/Vienna"
BEGIN:DAYLIGHT
TZOFFSETFROM:+0100
TZOFFSETTO:+0200
TZNAME:CEST
DTSTART:20190331T010000
END:DAYLIGHT
BEGIN:STANDARD
TZOFFSETFROM:+0200
TZOFFSETTO:+0100
TZNAME:CET
DTSTART:20191027T010000
END:STANDARD
END:VTIMEZONE
BEGIN:VEVENT
DTSTART;TZID="Europe/Vienna":20190526T170000
DTEND;TZID="Europe/Vienna":20190526T193000
DTSTAMP:20260419T201754
CREATED:20190304T105805Z
LAST-MODIFIED:20190304T105805Z
UID:2451-1558890000-1558899000@harmonikaverband.at
SUMMARY:Accordeon in Concert
DESCRIPTION:Sie hören einen breiten Bogen von Klassik bis hin zur Rock- u. Pop-Musik. Geschmückt wird dieses Konzert vom Gesangs-Quartett “Tina\, Nicki\, Günther u. Herbert”.  \n
URL:https://harmonikaverband.at/event/accordeon-in-concert/
LOCATION:Stadthalle Fürstenfeld\, Wallstraße 26\, Fürstenfeld\, Steiermark\, 8280\, Österreich
CATEGORIES:Konzerte
ATTACH;FMTTYPE=image/jpeg:https://harmonikaverband.at/wp-content/uploads/2019/03/Plakat_05_2019.jpg
ORGANIZER;CN="Morino-Orchester%20F%C3%BCrstenfeld":MAILTO:mag.murg.johann@aon.at
END:VEVENT
END:VCALENDAR