BEGIN:VCALENDAR
VERSION:2.0
PRODID:-//HVÖ Harmonikaverband Österreichs - ECPv4.9.7//NONSGML v1.0//EN
CALSCALE:GREGORIAN
METHOD:PUBLISH
X-WR-CALNAME:HVÖ Harmonikaverband Österreichs
X-ORIGINAL-URL:https://harmonikaverband.at
X-WR-CALDESC:Veranstaltungen im HVÖ Harmonikaverband Österreichs
BEGIN:VTIMEZONE
TZID:"Europe/Vienna"
BEGIN:DAYLIGHT
TZOFFSETFROM:+0100
TZOFFSETTO:+0200
TZNAME:CEST
DTSTART:20210328T010000
END:DAYLIGHT
BEGIN:STANDARD
TZOFFSETFROM:+0200
TZOFFSETTO:+0100
TZNAME:CET
DTSTART:20211031T010000
END:STANDARD
END:VTIMEZONE
BEGIN:VEVENT
DTSTART;VALUE=DATE:20211013
DTEND;VALUE=DATE:20211018
DTSTAMP:20260423T100944
CREATED:20210818T102453Z
LAST-MODIFIED:20210818T104851Z
UID:5181-1634083200-1634515199@harmonikaverband.at
SUMMARY:74. Coupe Mondiale der CIA
DESCRIPTION:Das Eröffnungskonzert findet am 13. 10.2021 statt\, die Wettbewerbe beginnen am Donnerstag\, 14. 10.\, Finalrunde der Besten ist am Sonntag\, 17.10.! Details folgen bzw. Infos schon jetzt auf http://coupemondiale.org/2021/de_coupemain.html \nInfos zu Kartenbestellungen/reservierungen folgen in den ersten Septembertagen! \n
URL:https://harmonikaverband.at/event/74-coupe-mondiale-der-cia/
LOCATION:Kolpinghaus München Zentral\, Adolf-Kolping-Straße 1\, München\, 80336\, Deutschland
CATEGORIES:Wettbewerbe
ATTACH;FMTTYPE=image/jpeg:https://harmonikaverband.at/wp-content/uploads/2021/08/CM-München-2021.jpg
END:VEVENT
END:VCALENDAR