BEGIN:VCALENDAR
VERSION:2.0
PRODID:-//HVÖ Harmonikaverband Österreichs - ECPv4.9.7//NONSGML v1.0//EN
CALSCALE:GREGORIAN
METHOD:PUBLISH
X-WR-CALNAME:HVÖ Harmonikaverband Österreichs
X-ORIGINAL-URL:https://harmonikaverband.at
X-WR-CALDESC:Veranstaltungen im HVÖ Harmonikaverband Österreichs
BEGIN:VTIMEZONE
TZID:"Europe/Vienna"
BEGIN:DAYLIGHT
TZOFFSETFROM:+0100
TZOFFSETTO:+0200
TZNAME:CEST
DTSTART:20180325T010000
END:DAYLIGHT
BEGIN:STANDARD
TZOFFSETFROM:+0200
TZOFFSETTO:+0100
TZNAME:CET
DTSTART:20181028T010000
END:STANDARD
END:VTIMEZONE
BEGIN:VEVENT
DTSTART;VALUE=DATE:20181212
DTEND;VALUE=DATE:20181217
DTSTAMP:20260420T212201
CREATED:20180823T065357Z
LAST-MODIFIED:20180823T065357Z
UID:1167-1544572800-1545004799@harmonikaverband.at
SUMMARY:30. Festival "Bajan und Bajanisten"
DESCRIPTION:in Moskau/Russland \n
URL:https://harmonikaverband.at/event/30-festival-bajan-und-bajanisten/
CATEGORIES:Wettbewerbe
END:VEVENT
END:VCALENDAR