BEGIN:VCALENDAR
VERSION:2.0
PRODID:-//HVÖ Harmonikaverband Österreichs - ECPv4.9.7//NONSGML v1.0//EN
CALSCALE:GREGORIAN
METHOD:PUBLISH
X-WR-CALNAME:HVÖ Harmonikaverband Österreichs
X-ORIGINAL-URL:https://harmonikaverband.at
X-WR-CALDESC:Veranstaltungen im HVÖ Harmonikaverband Österreichs
BEGIN:VTIMEZONE
TZID:"Europe/Vienna"
BEGIN:DAYLIGHT
TZOFFSETFROM:+0100
TZOFFSETTO:+0200
TZNAME:CEST
DTSTART:20240331T010000
END:DAYLIGHT
BEGIN:STANDARD
TZOFFSETFROM:+0200
TZOFFSETTO:+0100
TZNAME:CET
DTSTART:20241027T010000
END:STANDARD
END:VTIMEZONE
BEGIN:VEVENT
DTSTART;TZID="Europe/Vienna":20241024T080000
DTEND;TZID="Europe/Vienna":20241027T190000
DTSTAMP:20260421T071122
CREATED:20240815T154753Z
LAST-MODIFIED:20240815T155904Z
UID:8652-1729756800-1730055600@harmonikaverband.at
SUMMARY:10. Internationale Akkordeontage in Prag
DESCRIPTION:Der Anmeldeschluss zum  Wettbewerb der 10. Internationalen Akkordeontage\, die vom 24. bis 27. Oktober 2024 in Prag stattfinden\, ist der 23. September 2024 ! \nDas Eröffnungskonzert mit internationaler Beteiligung findet am Donnerstag\, 24. Oktober\, im Saal des Museums für Angewandte Kunst statt. \nAm Freitag\, 25. Oktober\, können wir uns nach dem ersten Tag des Juniorenwettbewerbs auf ein Galakonzert freuen. Programm: „Tschechischer Geschichtenerzähler“ – Uraufführungen von Kompositionen von Jiřího Pazour\, Jára Novák und David Solaře. Aufgeführt von Petr Nouzovský (Cello) und Ladislav Horák (Akkordeon).  \nLadislav Horák (links) ist der Direktor des Prager Konservatoriums und auch der Veranstalter! \nAm Samstag\, 26. Oktober\, findet ein Wettbewerb mit Senioren und Orchestern statt\, der mit einem Preisträgerkonzert endet. \nAm 27. Oktober findet im Kulturzentrum Velký Mlýn ein Konzert mit dem Titel „Akkordeonjugend“ mit tschechischen und deutschen talentierten Akkordeonisten statt. \nhttps://www.accordion.cz/?p=2076&lang=de \n  \n  \n
URL:https://harmonikaverband.at/event/10-internationale-akkordeontage-in-prag/
LOCATION:Prager Konservatorium\, Na Rejdišti 1\, 110 00 Praha 1\, Tschechische Republik
CATEGORIES:Wettbewerbe
ATTACH;FMTTYPE=image/jpeg:https://harmonikaverband.at/wp-content/uploads/2024/08/Pragee-Tage.jpg
END:VEVENT
END:VCALENDAR